BEGIN:VCALENDAR
VERSION:2.0
PRODID:-//Digital Humanities Network - ECPv6.15.20//NONSGML v1.0//EN
CALSCALE:GREGORIAN
METHOD:PUBLISH
X-WR-CALNAME:Digital Humanities Network
X-ORIGINAL-URL:https://dhn.utoronto.ca
X-WR-CALDESC:Events for Digital Humanities Network
REFRESH-INTERVAL;VALUE=DURATION:PT1H
X-Robots-Tag:noindex
X-PUBLISHED-TTL:PT1H
BEGIN:VTIMEZONE
TZID:America/Toronto
BEGIN:DAYLIGHT
TZOFFSETFROM:-0500
TZOFFSETTO:-0400
TZNAME:EDT
DTSTART:20240310T070000
END:DAYLIGHT
BEGIN:STANDARD
TZOFFSETFROM:-0400
TZOFFSETTO:-0500
TZNAME:EST
DTSTART:20241103T060000
END:STANDARD
BEGIN:DAYLIGHT
TZOFFSETFROM:-0500
TZOFFSETTO:-0400
TZNAME:EDT
DTSTART:20250309T070000
END:DAYLIGHT
BEGIN:STANDARD
TZOFFSETFROM:-0400
TZOFFSETTO:-0500
TZNAME:EST
DTSTART:20251102T060000
END:STANDARD
BEGIN:DAYLIGHT
TZOFFSETFROM:-0500
TZOFFSETTO:-0400
TZNAME:EDT
DTSTART:20260308T070000
END:DAYLIGHT
BEGIN:STANDARD
TZOFFSETFROM:-0400
TZOFFSETTO:-0500
TZNAME:EST
DTSTART:20261101T060000
END:STANDARD
END:VTIMEZONE
BEGIN:VEVENT
DTSTART;TZID=America/Toronto:20251113T123000
DTEND;TZID=America/Toronto:20251113T140000
DTSTAMP:20260421T002325
CREATED:20251028T154922Z
LAST-MODIFIED:20251028T191614Z
UID:10237-1763037000-1763042400@dhn.utoronto.ca
SUMMARY:Guest Lecture: A Transnational Approach to Researching Dating Cultures
DESCRIPTION:What can dating apps teach us about the global circulation of intimacy\, identity\, and design? \nJoin Dr. Łukasz Szulc (University of Manchester) for “A Transnational Approach to Researching Dating Cultures” — a talk that rethinks how we study digital intimacy across borders. \nDrawing on transnational cultural studies\, Dr. Szulc traces how platforms like Tinder\, Bumble\, and Grindr shape — and are shaped by — global flows of people\, technologies\, and desires.  \nThursday\, Nov 13 | 12:30–2PM Online for UofT students\, staff\, and faculty\nClick here to RSVP\n*Advanced registration required; reserved for those with a UofT email address\n \nAbout the Talk\nOver 350 million people worldwide use dating apps\, with more than 1\,500 dating websites and apps operating globally. In this competitive market\, companies strive to stand out by developing innovative features. Yet\, such innovation can mask core similarities − most notably\, that leading platforms (including Tinder\, Bumble\, and Grindr) are designed by for-profit companies headquartered in the US\, despite their global reach. This underscores the need for a cross-border perspective\, alongside a historical approach\, to account for the transformation of dating cultures in the context of their intensified mediation\, commodification\, and globalisation. In this talk\, I propose a transnational approach that emphasizes rapid technological change\, large-scale migration\, and increased cross-cultural exchange. I introduce a new framework for transnational cultural studies of dating\, detailing its ontological and epistemological foundations\, guiding principles\, methods\, and research agenda. \nAbout the Speaker\nDr. Łukasz Szulc is a Senior Lecturer in Digital Media and Culture at the University of Manchester. His research focuses on critical and cultural studies of digital media\, particularly at the intersections of gender\, sexuality\, and transnationalism. He co-edited the 2024 Special Issue of the journal Communication\, Culture and Critique on “Transnational Queer Cultures and Digital Media” (with Yener Bayramoğlu and Radhika Gajjala) and is the author of the book Transnational Homosexuals in Communist Poland: Cross-Border Flows in Gay and Lesbian Magazines (2018).
URL:https://dhn.utoronto.ca/event/guest-lecture-a-transnational-approach-to-researching-dating-cultures/
LOCATION:Virtual (Zoom)
CATEGORIES:Virtual Event
ATTACH;FMTTYPE=image/jpeg:https://dhn.utoronto.ca/wp-content/uploads/2025/10/Guest-Lecture_Lukasz-Szulc_ft.-Image.jpg
ORGANIZER;CN="Critical Digital Humanities Initiative":MAILTO:dhn.admin@utoronto.ca
END:VEVENT
END:VCALENDAR