BEGIN:VCALENDAR
VERSION:2.0
PRODID:-//Digital Humanities Network - ECPv6.15.20//NONSGML v1.0//EN
CALSCALE:GREGORIAN
METHOD:PUBLISH
X-WR-CALNAME:Digital Humanities Network
X-ORIGINAL-URL:https://dhn.utoronto.ca
X-WR-CALDESC:Events for Digital Humanities Network
REFRESH-INTERVAL;VALUE=DURATION:PT1H
X-Robots-Tag:noindex
X-PUBLISHED-TTL:PT1H
BEGIN:VTIMEZONE
TZID:America/Toronto
BEGIN:DAYLIGHT
TZOFFSETFROM:-0500
TZOFFSETTO:-0400
TZNAME:EDT
DTSTART:20240310T070000
END:DAYLIGHT
BEGIN:STANDARD
TZOFFSETFROM:-0400
TZOFFSETTO:-0500
TZNAME:EST
DTSTART:20241103T060000
END:STANDARD
BEGIN:DAYLIGHT
TZOFFSETFROM:-0500
TZOFFSETTO:-0400
TZNAME:EDT
DTSTART:20250309T070000
END:DAYLIGHT
BEGIN:STANDARD
TZOFFSETFROM:-0400
TZOFFSETTO:-0500
TZNAME:EST
DTSTART:20251102T060000
END:STANDARD
BEGIN:DAYLIGHT
TZOFFSETFROM:-0500
TZOFFSETTO:-0400
TZNAME:EDT
DTSTART:20260308T070000
END:DAYLIGHT
BEGIN:STANDARD
TZOFFSETFROM:-0400
TZOFFSETTO:-0500
TZNAME:EST
DTSTART:20261101T060000
END:STANDARD
END:VTIMEZONE
BEGIN:VEVENT
DTSTART;TZID=America/Toronto:20250131T120000
DTEND;TZID=America/Toronto:20250131T133000
DTSTAMP:20260420T183940
CREATED:20250108T171159Z
LAST-MODIFIED:20250127T172536Z
UID:9791-1738324800-1738330200@dhn.utoronto.ca
SUMMARY:AI + Humanities Lab: Talk with Amir Kiani
DESCRIPTION:Please join CDHI’s AI + Humanities Lab for a talk with Amir Kiani on Friday\, January 31\, 2025\, 12:00-1:30pm in OISE 5170. \nCorporate Transparency in the Age of Advanced AI: Challenges\, Opportunities\, and the Path Forward \nIn a world increasingly shaped by advanced artificial intelligence\, transparency will become a cornerstone of corporate accountability and trust. This talk explores how AI can and is transforming corporate transparency\, addressing both its potential to enhance ethical practices and the challenges posed by opaque algorithms. \nAmir Kiani is a Philosopher and Senior Analyst working in the healthcare industry\, and is based in Toronto. With a PhD in Philosophy and extensive experience in practical data and AI applications\, Amir combines academic depth with real-world insights to address pressing issues at the intersection of AI\, cognitive science and ethics. \nRegistration for this in-person event is coming soon. The event will be held at OISE 5170\, on the St. George Campus.
URL:https://dhn.utoronto.ca/event/ai-humanities-lab-talk-with-amir-kiani/
CATEGORIES:AI and Humanities Lab
END:VEVENT
END:VCALENDAR