BEGIN:VCALENDAR
VERSION:2.0
PRODID:-//Digital Humanities Network - ECPv6.15.20//NONSGML v1.0//EN
CALSCALE:GREGORIAN
METHOD:PUBLISH
X-WR-CALNAME:Digital Humanities Network
X-ORIGINAL-URL:https://dhn.utoronto.ca
X-WR-CALDESC:Events for Digital Humanities Network
REFRESH-INTERVAL;VALUE=DURATION:PT1H
X-Robots-Tag:noindex
X-PUBLISHED-TTL:PT1H
BEGIN:VTIMEZONE
TZID:America/Toronto
BEGIN:DAYLIGHT
TZOFFSETFROM:-0500
TZOFFSETTO:-0400
TZNAME:EDT
DTSTART:20230312T070000
END:DAYLIGHT
BEGIN:STANDARD
TZOFFSETFROM:-0400
TZOFFSETTO:-0500
TZNAME:EST
DTSTART:20231105T060000
END:STANDARD
BEGIN:DAYLIGHT
TZOFFSETFROM:-0500
TZOFFSETTO:-0400
TZNAME:EDT
DTSTART:20240310T070000
END:DAYLIGHT
BEGIN:STANDARD
TZOFFSETFROM:-0400
TZOFFSETTO:-0500
TZNAME:EST
DTSTART:20241103T060000
END:STANDARD
BEGIN:DAYLIGHT
TZOFFSETFROM:-0500
TZOFFSETTO:-0400
TZNAME:EDT
DTSTART:20250309T070000
END:DAYLIGHT
BEGIN:STANDARD
TZOFFSETFROM:-0400
TZOFFSETTO:-0500
TZNAME:EST
DTSTART:20251102T060000
END:STANDARD
END:VTIMEZONE
BEGIN:VEVENT
DTSTART;TZID=America/Toronto:20240425T190000
DTEND;TZID=America/Toronto:20240425T203000
DTSTAMP:20260420T235110
CREATED:20240404T165158Z
LAST-MODIFIED:20240422T172516Z
UID:9128-1714071600-1714077000@dhn.utoronto.ca
SUMMARY:What Is An Algorithm and Why Should I Care?
DESCRIPTION:We hear a lot of buzz about algorithms and AI. But what exactly are algorithms and how do they work? How are they already using your personal data and shaping your everyday life? Are they good for humanity or are they\, as Cathy O’Neil argues\, “weapons of ‘math’ destruction”? \n\nTech companies arguably dodge a lot of scrutiny by coasting on assumptions that their tools are “too complicated” for most people to understand. Increasingly\, however\, scientists are raising the alarm about an industry that has gone unchecked for far too long. Researchers argue that one solution is “critical algorithmic literacy” for the public\, or making sure people have a basic understanding of how algorithms work. By building this new public “literacy” about algorithms\, they contend\, our societies will be much better equipped to make more informed decisions about the AI Age. \n\n\nJoin L.K. Bertram from the AI and Humanities Lab at the Critical Digital Humanities Initiative and fellow UTM Alumni and friends for this clear\, easy-to-follow lecture. You’ll gain a basic introduction to algorithms and their everyday impact as well as hands-on tips for improving your online privacy and ways that we can imagine a new future filled with more responsible tech. \nRegistration is required for this free\, virtual event.
URL:https://dhn.utoronto.ca/event/what-is-an-algorithm-and-why-should-i-care/
LOCATION:Virtual (Zoom)
CATEGORIES:AI and Humanities Lab,Virtual Event
ATTACH;FMTTYPE=image/jpeg:https://dhn.utoronto.ca/wp-content/uploads/2024/04/Screen-Shot-2024-04-04-at-12.24.39-PM-scaled.jpg
END:VEVENT
END:VCALENDAR