BEGIN:VCALENDAR
VERSION:2.0
PRODID:-//Digital Humanities Network - ECPv6.15.20//NONSGML v1.0//EN
CALSCALE:GREGORIAN
METHOD:PUBLISH
X-WR-CALNAME:Digital Humanities Network
X-ORIGINAL-URL:https://dhn.utoronto.ca
X-WR-CALDESC:Events for Digital Humanities Network
REFRESH-INTERVAL;VALUE=DURATION:PT1H
X-Robots-Tag:noindex
X-PUBLISHED-TTL:PT1H
BEGIN:VTIMEZONE
TZID:America/Toronto
BEGIN:DAYLIGHT
TZOFFSETFROM:-0500
TZOFFSETTO:-0400
TZNAME:EDT
DTSTART:20230312T070000
END:DAYLIGHT
BEGIN:STANDARD
TZOFFSETFROM:-0400
TZOFFSETTO:-0500
TZNAME:EST
DTSTART:20231105T060000
END:STANDARD
BEGIN:DAYLIGHT
TZOFFSETFROM:-0500
TZOFFSETTO:-0400
TZNAME:EDT
DTSTART:20240310T070000
END:DAYLIGHT
BEGIN:STANDARD
TZOFFSETFROM:-0400
TZOFFSETTO:-0500
TZNAME:EST
DTSTART:20241103T060000
END:STANDARD
BEGIN:DAYLIGHT
TZOFFSETFROM:-0500
TZOFFSETTO:-0400
TZNAME:EDT
DTSTART:20250309T070000
END:DAYLIGHT
BEGIN:STANDARD
TZOFFSETFROM:-0400
TZOFFSETTO:-0500
TZNAME:EST
DTSTART:20251102T060000
END:STANDARD
END:VTIMEZONE
BEGIN:VEVENT
DTSTART;TZID=America/Toronto:20240404T130000
DTEND;TZID=America/Toronto:20240404T140000
DTSTAMP:20260420T212921
CREATED:20240202T145709Z
LAST-MODIFIED:20240202T145709Z
UID:8818-1712235600-1712239200@dhn.utoronto.ca
SUMMARY:WordPress Drop-In #10
DESCRIPTION:Looking to get started using WordPress to create a website? Have an existing site but are stuck with a problem in development? Trying to use CSS in WordPress to create a particular design? Join Matt Lefaive\, CDHI’s Digital Humanities Developer\, for a series of drop-in sessions aimed at beginner users of WordPress! \nBring your questions and queries to this drop-in style event\, no registration required. All drop-ins will be held virtually over Zoom. \nZoom Link: https://utoronto.zoom.us/j/84241062466\nMeeting ID: 842 4106 2466 \nHope to see you there!
URL:https://dhn.utoronto.ca/event/wordpress-drop-in-10/
LOCATION:Virtual (Zoom)
CATEGORIES:Virtual Event,WordPress Drop-Ins 2023-2024
ORGANIZER;CN="Critical Digital Humanities Initiative":MAILTO:dhn.admin@utoronto.ca
END:VEVENT
END:VCALENDAR